BEGIN:VCALENDAR
VERSION:2.0
PRODID:-//The Heart of California - ECPv6.15.20//NONSGML v1.0//EN
CALSCALE:GREGORIAN
METHOD:PUBLISH
X-WR-CALNAME:The Heart of California
X-ORIGINAL-URL:https://californiadelta.org
X-WR-CALDESC:Events for The Heart of California
REFRESH-INTERVAL;VALUE=DURATION:PT1H
X-Robots-Tag:noindex
X-PUBLISHED-TTL:PT1H
BEGIN:VTIMEZONE
TZID:America/Los_Angeles
BEGIN:DAYLIGHT
TZOFFSETFROM:-0800
TZOFFSETTO:-0700
TZNAME:PDT
DTSTART:20250309T100000
END:DAYLIGHT
BEGIN:STANDARD
TZOFFSETFROM:-0700
TZOFFSETTO:-0800
TZNAME:PST
DTSTART:20251102T090000
END:STANDARD
BEGIN:DAYLIGHT
TZOFFSETFROM:-0800
TZOFFSETTO:-0700
TZNAME:PDT
DTSTART:20260308T100000
END:DAYLIGHT
BEGIN:STANDARD
TZOFFSETFROM:-0700
TZOFFSETTO:-0800
TZNAME:PST
DTSTART:20261101T090000
END:STANDARD
BEGIN:DAYLIGHT
TZOFFSETFROM:-0800
TZOFFSETTO:-0700
TZNAME:PDT
DTSTART:20270314T100000
END:DAYLIGHT
BEGIN:STANDARD
TZOFFSETFROM:-0700
TZOFFSETTO:-0800
TZNAME:PST
DTSTART:20271107T090000
END:STANDARD
END:VTIMEZONE
BEGIN:VEVENT
DTSTART;TZID=America/Los_Angeles:20260311T180000
DTEND;TZID=America/Los_Angeles:20260311T193000
DTSTAMP:20260423T092027
CREATED:20260301T232520Z
LAST-MODIFIED:20260301T232520Z
UID:16366-1773252000-1773257400@californiadelta.org
SUMMARY:Delta Chambers Business Mixer
DESCRIPTION:  \nMarch 11\, 2026.  Do not miss!  Mixer at Al’s Place in Locke!
URL:https://californiadelta.org/event/delta-chambers-business-mixer/
LOCATION:Al the Wops\, 13944 Main Street\, Locke\, CA\, 95690\, United States
CATEGORIES:Chamber Meeting,Event,Meeting,Mixer
ORGANIZER;CN="California Delta Chambers & Visitor's Bureau":MAILTO:webmaster@californiadelta.org
END:VEVENT
END:VCALENDAR